BEGIN:VCALENDAR
VERSION:2.0
PRODID:icalendar-ruby
CALSCALE:GREGORIAN
METHOD:PUBLISH
BEGIN:VEVENT
DTSTAMP:20260420T124856Z
UID:102-1140459@parmaparkchurch.com
DTSTART:20260426T160000Z
DTEND:20260426T160000Z
CLASS:PUBLIC
CREATED:20260412T105436
DESCRIPTION:We will be honoring our mothers who have passed. \nPlease brin
 g your favorite photo with your mom's name and your name attached. \nPlac
 e the photo in the box located w ithin the foyer by April 26th. 
LAST-MODIFIED:20260412T105436
LOCATION:Parma Park Church of God
SUMMARY:Mother's Day Memorial Recognition 
URL;VALUE=URI:https://www.parmaparkchurch.com/events/mothers-day-memorial-r
 ecognition/2026-04-26
ATTACH;FILENAME=mothers.jpg;FMTTYPE=image/jpeg:https://dq5pwpg1q8ru0.cloudf
 ront.net/2026/04/12/14/53/20/4898317f-22d8-4e3e-b619-699474e6c905/mothers.
 jpg
END:VEVENT
END:VCALENDAR
